BEGIN:VCALENDAR
VERSION:2.0
BEGIN:VEVENT
SUMMARY:Webinar Marketing AI Update
DTSTART:20260424T100000Z
DTEND:20260424T110000Z
DESCRIPTION:Webinar Marketing AI Update. Deelnemen via Zoom: https://us02web.zoom.us/j/81077304305
LOCATION:Online via Zoom
END:VEVENT
END:VCALENDAR